BEGIN:VCALENDAR
CALSCALE:GREGORIAN
VERSION:2.0
X-WR-CALNAME:Samsara Digital
METHOD:PUBLISH
PRODID:-//Apple Inc.//macOS 13.6.1//EN
BEGIN:VEVENT
STATUS:CONFIRMED
CREATED:20240103T205701Z
DTEND;VALUE=DATE:20250315
TRANSP:TRANSPARENT
UID:5A828022-F2AC-489C-9348-F5CF5B0B0C97
DTSTART;VALUE=DATE:20250314
LAST-MODIFIED:20240103T205701Z
DTSTAMP:20240103T205705Z
SUMMARY:Samsara Digital
SEQUENCE:0
URL;VALUE=URI:https://samsarainvitaciones.com.mx/SamsaraDigital/inicio.h
 tml
BEGIN:VALARM
UID:D8A9BCEC-F82F-4936-821D-A1E61DFA40C3
X-WR-ALARMUID:D8A9BCEC-F82F-4936-821D-A1E61DFA40C3
TRIGGER:-PT30M
DESCRIPTION:This is an event reminder
ACTION:DISPLAY
END:VALARM
END:VEVENT
END:VCALENDAR
